BEGIN:VCALENDAR
VERSION:2.0
METHOD:PUBLISH
X-WR-CALNAME:Athlete Guild Productions | Dash for Downs
PRODID:-//Athlete Guild LLC//EN
BEGIN:VEVENT
DTSTAMP;VALUE=DATE-TIME:20260425T153406Z
DTSTART;VALUE=DATE-TIME:20200509T130000Z
DTEND;VALUE=DATE-TIME:20200509T130000Z
UID:https://www.athleteguild.com/running/yoakum-tx/2020-dash-for-downs
URL;VALUE=URI:https://www.athleteguild.com/running/yoakum-tx/2020-dash-for-downs
SUMMARY:Dash for Downs
DESCRIPTION:<p>Dash for Downs is a 5K fun run that starts at the Yoakum Shape Shop and goes through historic downtown Yoakum.  The money raised from the race benefits the Down Syndrome Foundation of South Texas and the South Texas Sparkles special needs cheer team.  </p>
 
END:VEVENT
END:VCALENDAR
