BEGIN:VCALENDAR
VERSION:2.0
METHOD:PUBLISH
X-WR-CALNAME:Athlete Guild Productions | Resolution 5K
PRODID:-//Athlete Guild LLC//EN
BEGIN:VEVENT
DTSTAMP;VALUE=DATE-TIME:20260426T030512Z
DTSTART;VALUE=DATE-TIME:20200104T130000Z
DTEND;VALUE=DATE-TIME:20200104T130000Z
UID:https://www.athleteguild.com/running/mission-tx/2020-resolution-5k
URL;VALUE=URI:https://www.athleteguild.com/running/mission-tx/2020-resolution-5k
SUMMARY:Resolution 5K
DESCRIPTION:<p>What goals will you set for 2020?!</p>
 
END:VEVENT
END:VCALENDAR
