BEGIN:VCALENDAR
VERSION:2.0
METHOD:PUBLISH
X-WR-CALNAME:Athlete Guild Productions | Kyle-O-Meter
PRODID:-//Athlete Guild LLC//EN
BEGIN:VEVENT
DTSTAMP;VALUE=DATE-TIME:20260420T221416Z
DTSTART;VALUE=DATE-TIME:20121021T130000Z
DTEND;VALUE=DATE-TIME:20121021T130000Z
UID:https://www.athleteguild.com/running/kyle-tx/2012-kyle-o-meter
URL;VALUE=URI:https://www.athleteguild.com/running/kyle-tx/2012-kyle-o-meter
SUMMARY:Kyle-O-Meter
DESCRIPTION:<table border=\\"0\\" cellpadding=\\"1\\" cellspacing=\\"1\\" height=\\"145\\" width=\\"623\\">
 <tbody>
 <tr>
 <td>
 				<strong>Description\:</strong></td>
 <td>
 				5K Run\, 26 Mile Bicycle ride\, and 1K Fun Run sponsored by Broadway Bank</td>
 </tr>
 <tr>
 <td>
 				<strong>Schedule\:</strong></td>
 <td>
 				8\:00am - 5K Run<br />
 				8\:15am - 26 Mile Bike<br />
 				9\:15am - 1K Kids Run</td>
 </tr>
 <tr>
 <td>
 				<strong>Fees\:</strong></td>
 <td>
 				5K &amp\; BICYCLE - Adults 18 &amp\; Over
 </td></tr></tbody></table>
END:VEVENT
END:VCALENDAR
