BEGIN:VCALENDAR
VERSION:2.0
METHOD:PUBLISH
X-WR-CALNAME:Athlete Guild Productions | 5K Kyle-O-Meter
PRODID:-//Athlete Guild LLC//EN
BEGIN:VEVENT
DTSTAMP;VALUE=DATE-TIME:20260422T182143Z
DTSTART;VALUE=DATE-TIME:20111016T133000Z
DTEND;VALUE=DATE-TIME:20111016T133000Z
UID:https://www.athleteguild.com/running/kyle-tx/2011-5k-kyle-o-meter
URL;VALUE=URI:https://www.athleteguild.com/running/kyle-tx/2011-5k-kyle-o-meter
SUMMARY:5K Kyle-O-Meter
DESCRIPTION:<p>Date\: Sunday October 16th\, 2011</p>
 <p>Name\: Kyle 5K-O-Meter</p>
 <p>Time\: 8\:30 a.m.</p>
 <p>Location\: Wallace Middle School 1500 Center Street Kyle\, Texas 78640 Contact Name\: Ray Hernandez</p>
 <p>Email\: <a href=\\"mailto\:info@kylechamber.org\\">info@kylechamber.org</a></p>
 <p>Phone\: (512) 268-4220</p>
 <p>Race Registration Website\: <a href=\\"http\://www.kylefair.com/5krun.html\\">http\://www.kylefair.com/5krun.html</a></p>
 <p>Event Website\: <a href=\\"http\://www.kylefair.com/index.html\\">http\://www.kylefair.com/index.html</a></p>
 
END:VEVENT
END:VCALENDAR
