BEGIN:VCALENDAR
VERSION:2.0
METHOD:PUBLISH
X-WR-CALNAME:Athlete Guild Productions | Steps For Students
PRODID:-//Athlete Guild LLC//EN
BEGIN:VEVENT
DTSTAMP;VALUE=DATE-TIME:20260424T233920Z
DTSTART;VALUE=DATE-TIME:20160220T130000Z
DTEND;VALUE=DATE-TIME:20160220T130000Z
UID:https://www.athleteguild.com/running/houston-tx/2016-steps-for-students
URL;VALUE=URI:https://www.athleteguild.com/running/houston-tx/2016-steps-for-students
SUMMARY:Steps For Students
DESCRIPTION:<h3>What is Steps for Students?</h3>
 <p>Steps for Students is an annual archdiocesan-wide event where all school and parish communities can come together as one to support Catholic education. The goal of Steps for Students is to raise awareness of the importance of a Catholic education and provide much needed resources for our Catholic Schools. This day of family fun includes a 5k USA Track and Field Association sanctioned race and Post Race Party.</p>
 
END:VEVENT
END:VCALENDAR
