BEGIN:VCALENDAR
VERSION:2.0
METHOD:PUBLISH
X-WR-CALNAME:Athlete Guild Productions | FAST 5K
PRODID:-//Athlete Guild LLC//EN
BEGIN:VEVENT
DTSTAMP;VALUE=DATE-TIME:20260421T152504Z
DTSTART;VALUE=DATE-TIME:20170513T130000Z
DTEND;VALUE=DATE-TIME:20170513T130000Z
UID:https://www.athleteguild.com/running/harlingen-tx/2017-fast-5k
URL;VALUE=URI:https://www.athleteguild.com/running/harlingen-tx/2017-fast-5k
SUMMARY:FAST 5K
DESCRIPTION:<div>
 <h6>Run your <em>FASTEST</em> 5K</h6>
 </div>
 <div>
 <h6><strong>&nbsp\;USATF Certified&nbsp\;Closed Course</strong></h6>
 <h6><strong>Electronic Timing</strong></h6>
 <h6><strong>Custom Race Bib</strong></h6>
 <h6><strong><em>4-inch Custom Finisher&nbsp\;Medal</em>&nbsp\;</strong></h6>
 <div>
 <h6><strong>OVERALL MALE &amp\; FEMALE</strong></h6>
 <h6><strong>OVERALL MASTERS MALE &amp\; FEMALE</strong></h6>
 <h6><strong>1st\, 2nd\, 3rd Age Group Awards</strong></h6>
 <h6><strong>5-Year Divisions</strong></h6>
 </div>
 </div>
 
END:VEVENT
END:VCALENDAR
