BEGIN:VCALENDAR
VERSION:2.0
METHOD:PUBLISH
X-WR-CALNAME:Athlete Guild Productions | Jameson 5K
PRODID:-//Athlete Guild LLC//EN
BEGIN:VEVENT
DTSTAMP;VALUE=DATE-TIME:20260420T151817Z
DTSTART;VALUE=DATE-TIME:20161105T130000Z
DTEND;VALUE=DATE-TIME:20161105T130000Z
UID:https://www.athleteguild.com/running/georgetown-tx/2016-jameson-5k
URL;VALUE=URI:https://www.athleteguild.com/running/georgetown-tx/2016-jameson-5k
SUMMARY:Jameson 5K
DESCRIPTION:<p>Our 16th annual race benefiting the Jaysn Jameson Memorial Scholarship at Southwestern University!&nbsp\;Come enjoy a small\, friendly\, hometown 5K run/walk through and around Southwestern and Georgetown. &nbsp\;We also have a 1 mile Mosey limited to the campus area. &nbsp\;Alumni runners and walkers won&#39\;t want to miss this homecoming event. Lots of door prizes!</p>
 
END:VEVENT
END:VCALENDAR
