BEGIN:VCALENDAR
VERSION:2.0
METHOD:PUBLISH
X-WR-CALNAME:Athlete Guild Productions | Bastrop Half
PRODID:-//Athlete Guild LLC//EN
BEGIN:VEVENT
DTSTAMP;VALUE=DATE-TIME:20260423T102347Z
DTSTART;VALUE=DATE-TIME:20170325T120000Z
DTEND;VALUE=DATE-TIME:20170325T120000Z
UID:https://www.athleteguild.com/running/bastrop-tx/2017-bastrop-half
URL;VALUE=URI:https://www.athleteguild.com/running/bastrop-tx/2017-bastrop-half
SUMMARY:Bastrop Half
DESCRIPTION:<p>The Bastrop Half Marathon will be a premiere race experience. This course will feature a two-loop course through the rolling hills of the city of Bastrop. There will be a total of 8 water stations on the half marathon course complete with water\, gatorade\, snacks\, portable toilets\, and basic first aid supplies.</p>
 
END:VEVENT
END:VCALENDAR
