BEGIN:VCALENDAR
VERSION:2.0
METHOD:PUBLISH
X-WR-CALNAME:Athlete Guild Productions | Electric Run
PRODID:-//Athlete Guild LLC//EN
BEGIN:VEVENT
DTSTAMP;VALUE=DATE-TIME:20260423T052543Z
DTSTART;VALUE=DATE-TIME:20130331T003000Z
DTEND;VALUE=DATE-TIME:20130331T003000Z
UID:https://www.athleteguild.com/running/austin-tx/2013-electric-run
URL;VALUE=URI:https://www.athleteguild.com/running/austin-tx/2013-electric-run
SUMMARY:Electric Run
DESCRIPTION:<p>Electric Run is a 5K run\, show\, participation art\, and celebration of life. Incredibly talented artists and lightening technicians with experience creating beautiful art and light at Coachella\, Dreakwords Animations\, and some of Vegas&#39\; hottest shows have come together to create a world that will fill you with wonder.</p>
 
END:VEVENT
END:VCALENDAR
