BEGIN:VCALENDAR
VERSION:2.0
METHOD:PUBLISH
X-WR-CALNAME:Athlete Guild Productions | Utopia Cross Country Meet
PRODID:-//Athlete Guild LLC//EN
BEGIN:VEVENT
DTSTAMP;VALUE=DATE-TIME:20260422T165417Z
DTSTART;VALUE=DATE-TIME:20250920T133000Z
DTEND;VALUE=DATE-TIME:20250920T133000Z
UID:https://www.athleteguild.com/event/utopia-tx/2025-utopia-cross-country-meet
URL;VALUE=URI:https://www.athleteguild.com/event/utopia-tx/2025-utopia-cross-country-meet
SUMMARY:Utopia Cross Country Meet
DESCRIPTION:<p>
 <span style=\\"font-size\:13.999999999999998pt\; font-variant\:normal\; white-space\:pre-wrap\\"><span style=\\"font-family\:Arial\,sans-serif\\"><span style=\\"color\:#000000\\"><span style=\\"font-weight\:700\\"><span style=\\"font-style\:italic\\"><span style=\\"text-decoration\:none\\">BECAUSE WE LOVE TO RUN AND HAVE FUN</span></span></span></span></span></span></p>
 
END:VEVENT
END:VCALENDAR
